BEGIN:VCALENDAR
PRODID:-//github.com/rianjs/ical.net//NONSGML ical.net 4.0//EN
VERSION:2.0
BEGIN:VEVENT
DESCRIPTION:Informasjon og program
DTEND:20151002T170000
DTSTAMP:20260422T170239Z
DTSTART:20150928T073000
LOCATION:1. & 2.klassebasen
SEQUENCE:0
SUMMARY:Informasjon og program
UID:8c44df43-46c7-4b75-9fc7-e8eb4004650d
END:VEVENT
END:VCALENDAR
